BEGIN:VCALENDAR
VERSION:2.0
PRODID:-//www.foundationforlps.org//NONSGML kigkonsult.se iCalcreator 2.30.
 10//
CALSCALE:GREGORIAN
METHOD:PUBLISH
UID:89040b4a-9236-4d98-96ae-cf92f436ad7e
X-WR-CALDESC:
X-WR-RELCALID:83a60a732c11a99e9e529fb1a940844d
X-WR-TIMEZONE:America/Chicago
BEGIN:VTIMEZONE
TZID:America/Chicago
BEGIN:STANDARD
TZNAME:CST
DTSTART:20241103T020000
TZOFFSETFROM:-0500
TZOFFSETTO:-0600
RDATE:20251102T020000
RDATE:20261101T020000
END:STANDARD
BEGIN:DAYLIGHT
TZNAME:CDT
DTSTART:20250309T020000
TZOFFSETFROM:-0600
TZOFFSETTO:-0500
RDATE:20260308T020000
RDATE:20270314T020000
END:DAYLIGHT
END:VTIMEZONE
BEGIN:VEVENT
UID:8563d7ab-ae8a-4b97-b96a-5540f096a239
DTSTAMP:20260423T014719Z
DESCRIPTION:
DTSTART;TZID=America/Chicago:20250925T050000
DTEND;TZID=America/Chicago:20250927T050001
LOCATION:
SUMMARY:Lincoln East Class of 1975 50th Reunion
END:VEVENT
END:VCALENDAR
