BEGIN:VCALENDAR
VERSION:2.0
PRODID:-//www.foundationforlps.org//NONSGML kigkonsult.se iCalcreator 2.30.
 10//
CALSCALE:GREGORIAN
METHOD:PUBLISH
UID:d705134e-ca3b-4528-9d0f-0cbeef436015
X-WR-CALDESC:
X-WR-RELCALID:81ea365534ea6217c0fbca1cfc3c7962
X-WR-TIMEZONE:America/Chicago
BEGIN:VTIMEZONE
TZID:America/Chicago
BEGIN:STANDARD
TZNAME:CST
DTSTART:20241103T020000
TZOFFSETFROM:-0500
TZOFFSETTO:-0600
RDATE:20251102T020000
RDATE:20261101T020000
END:STANDARD
BEGIN:DAYLIGHT
TZNAME:CDT
DTSTART:20250309T020000
TZOFFSETFROM:-0600
TZOFFSETTO:-0500
RDATE:20260308T020000
END:DAYLIGHT
END:VTIMEZONE
BEGIN:VEVENT
UID:389981c3-9c12-4a9e-bcab-34931fe4e6c0
DTSTAMP:20260423T034505Z
DESCRIPTION:
DTSTART;TZID=America/Chicago:20250829T050000
DTEND;TZID=America/Chicago:20250830T050001
LOCATION:
SUMMARY:Lincoln Southeast Class of 1975 50th Reunion
END:VEVENT
END:VCALENDAR
