BEGIN:VCALENDAR
VERSION:2.0
PRODID:-//www.foundationforlps.org//NONSGML kigkonsult.se iCalcreator 2.30.
 10//
CALSCALE:GREGORIAN
METHOD:PUBLISH
UID:ac5baad0-a916-4eda-aecc-c9f194d8be52
X-WR-CALDESC:More details to come!
X-WR-RELCALID:af9c77fe22445b61c1966ca7a7e3eade
X-WR-TIMEZONE:America/Chicago
BEGIN:VTIMEZONE
TZID:America/Chicago
BEGIN:STANDARD
TZNAME:CST
DTSTART:20241103T020000
TZOFFSETFROM:-0500
TZOFFSETTO:-0600
RDATE:20251102T020000
RDATE:20261101T020000
END:STANDARD
BEGIN:DAYLIGHT
TZNAME:CDT
DTSTART:20250309T020000
TZOFFSETFROM:-0600
TZOFFSETTO:-0500
RDATE:20260308T020000
END:DAYLIGHT
END:VTIMEZONE
BEGIN:VEVENT
UID:3f454220-252c-4c3a-8614-4104d7c88552
DTSTAMP:20260423T034601Z
DESCRIPTION:More details to come!
DTSTART;TZID=America/Chicago:20250809T050000
DTEND;TZID=America/Chicago:20250809T050001
LOCATION:
SUMMARY:Lincoln Northeast Class of 1985 40th Reunion
END:VEVENT
END:VCALENDAR
